BEGIN:VCALENDAR
VERSION:2.0
PRODID:-//www.kulturne.sk - ECPv5.14.0.4//NONSGML v1.0//EN
CALSCALE:GREGORIAN
METHOD:PUBLISH
X-WR-CALNAME:www.kulturne.sk
X-ORIGINAL-URL:https://kulturne.sk
X-WR-CALDESC:Events for www.kulturne.sk
REFRESH-INTERVAL;VALUE=DURATION:PT1H
X-Robots-Tag:noindex
X-PUBLISHED-TTL:PT1H
BEGIN:VTIMEZONE
TZID:Europe/Bratislava
BEGIN:DAYLIGHT
TZOFFSETFROM:+0100
TZOFFSETTO:+0200
TZNAME:CEST
DTSTART:20220327T010000
END:DAYLIGHT
BEGIN:STANDARD
TZOFFSETFROM:+0200
TZOFFSETTO:+0100
TZNAME:CET
DTSTART:20221030T010000
END:STANDARD
END:VTIMEZONE
BEGIN:VEVENT
DTSTART;TZID=Europe/Bratislava:20220211T160000
DTEND;TZID=Europe/Bratislava:20220215T180000
DTSTAMP:20260422T192405
CREATED:20220209T204808Z
LAST-MODIFIED:20220211T124354Z
UID:6972-1644595200-1644948000@kulturne.sk
SUMMARY:Kino Moskva: Tajomstvo starej bambitky 2
DESCRIPTION:Z Jakuba je kráľ\, z Aničky kráľovná a rodina sa rozrástla o zvedavú princeznú Johanku. Tá najradšej trávi čas s milujúcim deduškom Karabom\, spravodlivým to lúpežníkom\, ktorý sa teraz venuje len hrnčiarskemu remeslu. Chamtiví radcovia Lorenc a Ferenc boli vyhostení z kráľovstva\, potulujú sa po svete a hľadajú miesto\, kde by mohli opäť začať kuť pikle. Zdá sa\, že mladá\, neskúsená kráľovná Júlia zo susedného kráľovstva sa stane vhodným nástrojom ich pomsty. Že by nastal čas oprášiť tajomnú bambitku\, ktorá doteraz ležala dobre ukrytá a zavolať na pomoc lúpežníka Karabu a spojiť všetky sily\, aby spravodlivosť a láska konečne zvíťazili? \n \n 
URL:https://kulturne.sk/event/tajomstvo-starej-bambitky-2/
LOCATION:Kino Moskva\, Moskovská 1\, Martin\, 03601\, Slovenská republika
CATEGORIES:Film
ATTACH;FMTTYPE=image/jpeg:https://kulturne.sk/wp-content/uploads/2022/02/b300cf39-7d33-11ec-b67c-9e966f951e90.jpg
END:VEVENT
BEGIN:VEVENT
DTSTART;TZID=Europe/Bratislava:20220214T180000
DTEND;TZID=Europe/Bratislava:20220214T200000
DTSTAMP:20260422T192405
CREATED:20220209T210415Z
LAST-MODIFIED:20220209T210623Z
UID:6987-1644861600-1644868800@kulturne.sk
SUMMARY:Kino Moskva: V lete ti poviem\, ako sa mám
DESCRIPTION:Spleť vzťahov\, reálnych a zároveň vtipných situácií\, ktoré prináša sám život. Film o priateľoch\, ktorých snaženie smeruje k jedinému cieľu: „BYŤ ŠŤASTNÝ“. \nKomédia na motívy bestselleru Evity Twardzik\, V lete ti poviem\, ako sa mám\, mapuje životy partie štyridsiatnikov\, ktorí sa kamarátia od detstva a dodnes sa stretávajú už spolu so svojimi rodinami. Po rokoch sa ale začínajú objavovať tajomstvá\, ktoré ich životy navždy zmenia. \nTesne pred Vianocami oznámi Ivane (Tereza Kostková)\, ktorá žije len pre rodinu\, jej manžel Martin (Marián Miezga) vec\, ktorá jej zničí sviatky\, a o ktorej vie len ich spoločná kamarátka Adriana (Dana Rogoz)\, rozvodová právnička. Tá sa ako jediná z partie nevydala a nemá deti. Žije sama\, ale udržiava pomer so svojim šéfom Filipom (Martin Hofmann). Ďalšia z partie Ela (Andreea Vasile) je známa televízna moderátorka\, ktorá vedie harmonický život s prekladateľom kníh Andrejom (Ondřej Sokol) a ich desaťročnými dvojičkami\, kým sa nečakane neobjaví jej bývalá láska Dávid (Ján Koleník). Partiu uzatvára majiteľ reštaurácie Vlado (Pavel Bartos)\, ktorý sa po rozvode s Vierou (Soňa Norisová) druhýkrát oženil s mladšou Broňou (Dominika Morávková). Po skúsenostiach z predošlého vzťahu si neželá\, aby jeho žena pracovala\, tak Broňa robí všetko pre to\, aby sa o jej pracovných aktivitách nedozvedel. Ela jej v tom pomáha. Spleť tajomstiev\, koré majú medzi sebou nielen páry\, ale aj samotní priatelia\, sa začne ešte viac zamotávať\, keď sa na Adrianu obráti premiérova manželka (Petra Vajdová) a chce svojho muža (Jaroslav Plesl) opustiť v čase predvolebnej kampane…
URL:https://kulturne.sk/event/6987/
LOCATION:Kino Moskva\, Moskovská 1\, Martin\, 03601\, Slovenská republika
CATEGORIES:Film
ATTACH;FMTTYPE=image/jpeg:https://kulturne.sk/wp-content/uploads/2022/02/24ab3646-88ba-11ec-b67c-9e966f951e90.jpg
END:VEVENT
BEGIN:VEVENT
DTSTART;TZID=Europe/Bratislava:20220214T200000
DTEND;TZID=Europe/Bratislava:20220214T220000
DTSTAMP:20260422T192405
CREATED:20220209T211337Z
LAST-MODIFIED:20220209T212354Z
UID:7000-1644868800-1644876000@kulturne.sk
SUMMARY:Scandi 2022: Ninjababy
DESCRIPTION:Keď Rakel (23) dosť neskoro\, v šiestom mesiaci\, zistí\, že je tehotná po nie až takej romantickej jednorazovke\, jej svet sa mení. Jej priateľ\, ktorý nie je otcom\, je v pohode s tým\, že Rakel čaká dieťa. Ale tá vôbec nie je pripravená stať sa matkou. Keďže potrat už nie je možný\, jedinou možnosťou je adopcia. A práve vtedy sa objaví Ninjababy\, animovaná postavička\, ktorá robí Rakel z každodenného života peklo. Vyštverá sa z jej poznámkového bloku a skočí jej do čajovej šálky\, odkiaľ jej stále pripomína\, aká je otrasná.
URL:https://kulturne.sk/event/kino-moskva-ninjababy/
LOCATION:Kino Moskva\, Moskovská 1\, Martin\, 03601\, Slovenská republika
CATEGORIES:Festival,Film
ATTACH;FMTTYPE=image/jpeg:https://kulturne.sk/wp-content/uploads/2022/02/f8e6ae87-7d3a-11ec-b67c-9e966f951e90.jpg
END:VEVENT
END:VCALENDAR