BEGIN:VCALENDAR
VERSION:2.0
PRODID:-//www.kulturne.sk - ECPv5.14.0.4//NONSGML v1.0//EN
CALSCALE:GREGORIAN
METHOD:PUBLISH
X-WR-CALNAME:www.kulturne.sk
X-ORIGINAL-URL:https://kulturne.sk
X-WR-CALDESC:Events for www.kulturne.sk
REFRESH-INTERVAL;VALUE=DURATION:PT1H
X-Robots-Tag:noindex
X-PUBLISHED-TTL:PT1H
BEGIN:VTIMEZONE
TZID:Europe/Bratislava
BEGIN:DAYLIGHT
TZOFFSETFROM:+0100
TZOFFSETTO:+0200
TZNAME:CEST
DTSTART:20220327T010000
END:DAYLIGHT
BEGIN:STANDARD
TZOFFSETFROM:+0200
TZOFFSETTO:+0100
TZNAME:CET
DTSTART:20221030T010000
END:STANDARD
END:VTIMEZONE
BEGIN:VEVENT
DTSTART;TZID=Europe/Bratislava:20220217T160000
DTEND;TZID=Europe/Bratislava:20220221T174000
DTSTAMP:20260422T200026
CREATED:20220209T210232Z
LAST-MODIFIED:20220209T211116Z
UID:6984-1645113600-1645465200@kulturne.sk
SUMMARY:Kino Moskva: Veľký červený pes Clifford
DESCRIPTION:Keď sa stredoškoláčka Emily Elizabeth snaží zapadnúť doma aj v škole\, objaví malé červené šteniatko u čarovného zvieracieho záchrancu\, ktoré je predurčené stať sa jej najlepším priateľom. Keď sa Clifford v jej newyorskom byte stane obrovským červeným psom a upúta pozornosť genetickej spoločnosti\, ktorá chce zvieratá naklonovať do veľkých rozmerov\, Emily a jej bezradný strýko Casey musia bojovať so silami chamtivosti na úteku cez celý New York. Počas toho Clifford ovplyvňuje životy všetkých okolo seba a učí Emily a jej strýka skutočný význam prijatia a bezpodmienečnej lásky. Clifford naučí svet ako naozaj MILOVAŤ VO VEĽKOM.
URL:https://kulturne.sk/event/kino-moskva-velky-cerveny-pes-clifford/
LOCATION:Kino Moskva\, Moskovská 1\, Martin\, 03601\, Slovenská republika
CATEGORIES:Film
ATTACH;FMTTYPE=image/jpeg:https://kulturne.sk/wp-content/uploads/2022/02/6501fb03-7d3b-11ec-b67c-9e966f951e90.jpg
END:VEVENT
BEGIN:VEVENT
DTSTART;TZID=Europe/Bratislava:20220217T175000
DTEND;TZID=Europe/Bratislava:20220219T200000
DTSTAMP:20260422T200026
CREATED:20220209T211002Z
LAST-MODIFIED:20220209T211002Z
UID:6995-1645120200-1645300800@kulturne.sk
SUMMARY:Kino Moskva: UNCHARTED
DESCRIPTION:Potomok slávneho hľadača pokladov sira Francise Drakea\, Nathan Drake\, konečne našiel stopu k prekliatej zlatej soške zo Zlatého mesta v El Dorade. Keď sa však vydá na cestu\, za chrbtom sa mu náhle objavia zákerní konkurenti.
URL:https://kulturne.sk/event/kino-moskva-uncharted/
LOCATION:Kino Moskva\, Moskovská 1\, Martin\, 03601\, Slovenská republika
CATEGORIES:Film
ATTACH;FMTTYPE=image/jpeg:https://kulturne.sk/wp-content/uploads/2022/02/bb34bd94-7d3b-11ec-b67c-9e966f951e90.jpg
END:VEVENT
BEGIN:VEVENT
DTSTART;TZID=Europe/Bratislava:20220217T200000
DTEND;TZID=Europe/Bratislava:20220221T220000
DTSTAMP:20260422T200026
CREATED:20220209T210542Z
LAST-MODIFIED:20220209T210542Z
UID:6990-1645128000-1645480800@kulturne.sk
SUMMARY:Kino Moskva: V lete ti poviem\, ako sa mám
DESCRIPTION:Spleť vzťahov\, reálnych a zároveň vtipných situácií\, ktoré prináša sám život. Film o priateľoch\, ktorých snaženie smeruje k jedinému cieľu: „BYŤ ŠŤASTNÝ“. \nKomédia na motívy bestselleru Evity Twardzik\, V lete ti poviem\, ako sa mám\, mapuje životy partie štyridsiatnikov\, ktorí sa kamarátia od detstva a dodnes sa stretávajú už spolu so svojimi rodinami. Po rokoch sa ale začínajú objavovať tajomstvá\, ktoré ich životy navždy zmenia. \nTesne pred Vianocami oznámi Ivane (Tereza Kostková)\, ktorá žije len pre rodinu\, jej manžel Martin (Marián Miezga) vec\, ktorá jej zničí sviatky\, a o ktorej vie len ich spoločná kamarátka Adriana (Dana Rogoz)\, rozvodová právnička. Tá sa ako jediná z partie nevydala a nemá deti. Žije sama\, ale udržiava pomer so svojim šéfom Filipom (Martin Hofmann). Ďalšia z partie Ela (Andreea Vasile) je známa televízna moderátorka\, ktorá vedie harmonický život s prekladateľom kníh Andrejom (Ondřej Sokol) a ich desaťročnými dvojičkami\, kým sa nečakane neobjaví jej bývalá láska Dávid (Ján Koleník). Partiu uzatvára majiteľ reštaurácie Vlado (Pavel Bartos)\, ktorý sa po rozvode s Vierou (Soňa Norisová) druhýkrát oženil s mladšou Broňou (Dominika Morávková). Po skúsenostiach z predošlého vzťahu si neželá\, aby jeho žena pracovala\, tak Broňa robí všetko pre to\, aby sa o jej pracovných aktivitách nedozvedel. Ela jej v tom pomáha. Spleť tajomstiev\, koré majú medzi sebou nielen páry\, ale aj samotní priatelia\, sa začne ešte viac zamotávať\, keď sa na Adrianu obráti premiérova manželka (Petra Vajdová) a chce svojho muža (Jaroslav Plesl) opustiť v čase predvolebnej kampane…
URL:https://kulturne.sk/event/kino-moskva-v-lete-ti-poviem-ako-sa-mam/
LOCATION:Kino Moskva\, Moskovská 1\, Martin\, 03601\, Slovenská republika
CATEGORIES:Film
ATTACH;FMTTYPE=image/jpeg:https://kulturne.sk/wp-content/uploads/2022/02/24ab3646-88ba-11ec-b67c-9e966f951e90.jpg
END:VEVENT
BEGIN:VEVENT
DTSTART;TZID=Europe/Bratislava:20220218T180000
DTEND;TZID=Europe/Bratislava:20220218T220000
DTSTAMP:20260422T200026
CREATED:20220207T212712Z
LAST-MODIFIED:20220207T212712Z
UID:6947-1645207200-1645221600@kulturne.sk
SUMMARY:FILMOVÝ FESTIVAL JEDEN SVET
DESCRIPTION:18:00. Tieňohra\nTieňohra je experimentálne natočený príbeh o ďalekosiahlych dôsledkoch európskej azylovej politiky. V súčasnosti sa v celej Európe postavili ploty a žiadať o azyl je takmer nemožné. Tínedžeri sa brodia zasneženou krajinou a na ceste stretávajú agresívnu pohraničnú políciu. Dosiahnuť konečný cieľ je zrazu ťažšie ako kedykoľvek predtým. Ich cesta vedie naprieč celou Európou: z Grécka do Severného Macedónska\, Srbska a Bosny a Hercegoviny\, z Talianska do Francúzska a Holandska. Film sa natáčal tri roky\, čiastočne ho natočili sami hlavní hrdinovia na svoje telefóny.\nRÉŽIA\nEefje Blankevoort\, Els van Driel / Holandsko / 2021 / 90/52 min.\nJAZYK\nanglicky\, grécky\nTITULKY\nslovenské\nTÉMA\nMigrácia\n19.10. Prečo plasty? Mýtus zvaný recyklácia\nKríza znečistenia životného prostredia plastmi prerástla v posledných rokoch do medzinárodného škandálu. Fotografie mŕtvych zvierat\, znečistených riek a oceánov šokovali svet. Odvetvie výroby plastových obalov vyhlásilo\, že pozná riešenie problému: je ním recyklácia. Na fľašiach\, škatuliach a vrecúškach sa čoraz viac objavujú nápisy „100 % recyklovateľné“. Výrobcovia ubezpečujú spotrebiteľov\, že kúpa plastových obalov nie je zločin. Ak je recyklácia naozaj riešením\, prečo sa vo svete produkuje viac plastových materiálov ako kedykoľvek predtým? Ide o klamlivú reklamu? Množstvo peňazí v tomto odvetví problém skôr skrýva\, než ho rieši. Film Prečo plasty? – Mýtus zvaný recyklácia upriamuje pozornosť na priekupníkov na čiernom trhu\, ktorí vyhľadávajú krajiny\, kde by sa mohli zbaviť našich plastov\, na odpadových magnátov\, ktorí bohatnú na spaľovaní odpadu\, a na organizovaných zločincov\, pre ktorých je dnes pašovanie odpadu rovnako výnosné ako obchodovanie s ľuďmi. Film poukazuje i na to\, ako niektoré z najväčších značiek spotrebného tovaru schovávajú za rozprávku o recyklácii spôsob\, ktorý im umožňuje bez následkov naďalej znečisťovať životné prostredie. Keďže na to\, že sa svet topí v plastoch\, doplácame všetci\, film kladie otázku: Kto na tom zbohatne?\nRÉŽIA\nTom Costello\, Benedict Wermter / Dánsko / 2021 / 52 min.\nJAZYK\nanglicky\, nemecky\, dánsky\, indonézsky\nTITULKY\nslovenské\, anglické\nTÉMA\nKlíma\n20.10. Diskusia\n20.30. Odvaha\nVo víre masových protestov po bieloruských prezidentských voľbách\, ktoré sa uskutočnili v lete roku 2020\, zadržia v Minsku trojicu hercov nekomerčného divadla. Tí chceli\, aby v rozľahlých uliciach Minska zaznel aj ich hlas\, ktorým volali po slobode prejavu a dlho očakávanej zmene na čele štátu. Štátny bezpečnostný aparát však hlas ľudu brutálnym spôsobom umlčí. Uväznení sú nielen divadelníci\, ale aj mnohí ďalší ľudia. Krajina sa ocitá na pokraji občianskej vojny. Film Odvaha dokumentuje statočný a nenásilný odpor\, ktorý nielen pred protestmi\, ale aj po nich stelesňujú Maryna\, Pavel a Denis. Ponúka autentický pohľad na udalosti\, dokonale a pútavo sa ponára do osudov ľudí\, ktorí v dnešnom Bielorusku zvádzajú boj za slobodu a právo na demokraciu.\nRÉŽIA\nAliaksej Palujan / Nemecko\, Bielorusko / 2021 / 90 min.\nJAZYK\nrusky\, bielorusky\, nemecky\nTITULKY\nčeské\, anglické\nTÉMA\nPolitické režimy
URL:https://kulturne.sk/event/filmovy-festival-jeden-svet/
LOCATION:Bar Museum\, Malá hora 2\, Martin\, 03601\, Slovenská republika
CATEGORIES:Festival,Film
ATTACH;FMTTYPE=image/jpeg:https://kulturne.sk/wp-content/uploads/2022/02/JEDENSVET21-baneri_JEDENSVET21-dfilms_600x200.jpg
END:VEVENT
END:VCALENDAR