BEGIN:VCALENDAR
VERSION:2.0
PRODID:-//www.kulturne.sk - ECPv5.14.0.4//NONSGML v1.0//EN
CALSCALE:GREGORIAN
METHOD:PUBLISH
X-WR-CALNAME:www.kulturne.sk
X-ORIGINAL-URL:https://kulturne.sk
X-WR-CALDESC:Events for www.kulturne.sk
REFRESH-INTERVAL;VALUE=DURATION:PT1H
X-Robots-Tag:noindex
X-PUBLISHED-TTL:PT1H
BEGIN:VTIMEZONE
TZID:Europe/Bratislava
BEGIN:DAYLIGHT
TZOFFSETFROM:+0100
TZOFFSETTO:+0200
TZNAME:CEST
DTSTART:20220327T010000
END:DAYLIGHT
BEGIN:STANDARD
TZOFFSETFROM:+0200
TZOFFSETTO:+0100
TZNAME:CET
DTSTART:20221030T010000
END:STANDARD
END:VTIMEZONE
BEGIN:VEVENT
DTSTART;TZID=Europe/Bratislava:20220218T180000
DTEND;TZID=Europe/Bratislava:20220218T220000
DTSTAMP:20260425T013740
CREATED:20220207T212712Z
LAST-MODIFIED:20220207T212712Z
UID:6947-1645207200-1645221600@kulturne.sk
SUMMARY:FILMOVÝ FESTIVAL JEDEN SVET
DESCRIPTION:18:00. Tieňohra\nTieňohra je experimentálne natočený príbeh o ďalekosiahlych dôsledkoch európskej azylovej politiky. V súčasnosti sa v celej Európe postavili ploty a žiadať o azyl je takmer nemožné. Tínedžeri sa brodia zasneženou krajinou a na ceste stretávajú agresívnu pohraničnú políciu. Dosiahnuť konečný cieľ je zrazu ťažšie ako kedykoľvek predtým. Ich cesta vedie naprieč celou Európou: z Grécka do Severného Macedónska\, Srbska a Bosny a Hercegoviny\, z Talianska do Francúzska a Holandska. Film sa natáčal tri roky\, čiastočne ho natočili sami hlavní hrdinovia na svoje telefóny.\nRÉŽIA\nEefje Blankevoort\, Els van Driel / Holandsko / 2021 / 90/52 min.\nJAZYK\nanglicky\, grécky\nTITULKY\nslovenské\nTÉMA\nMigrácia\n19.10. Prečo plasty? Mýtus zvaný recyklácia\nKríza znečistenia životného prostredia plastmi prerástla v posledných rokoch do medzinárodného škandálu. Fotografie mŕtvych zvierat\, znečistených riek a oceánov šokovali svet. Odvetvie výroby plastových obalov vyhlásilo\, že pozná riešenie problému: je ním recyklácia. Na fľašiach\, škatuliach a vrecúškach sa čoraz viac objavujú nápisy „100 % recyklovateľné“. Výrobcovia ubezpečujú spotrebiteľov\, že kúpa plastových obalov nie je zločin. Ak je recyklácia naozaj riešením\, prečo sa vo svete produkuje viac plastových materiálov ako kedykoľvek predtým? Ide o klamlivú reklamu? Množstvo peňazí v tomto odvetví problém skôr skrýva\, než ho rieši. Film Prečo plasty? – Mýtus zvaný recyklácia upriamuje pozornosť na priekupníkov na čiernom trhu\, ktorí vyhľadávajú krajiny\, kde by sa mohli zbaviť našich plastov\, na odpadových magnátov\, ktorí bohatnú na spaľovaní odpadu\, a na organizovaných zločincov\, pre ktorých je dnes pašovanie odpadu rovnako výnosné ako obchodovanie s ľuďmi. Film poukazuje i na to\, ako niektoré z najväčších značiek spotrebného tovaru schovávajú za rozprávku o recyklácii spôsob\, ktorý im umožňuje bez následkov naďalej znečisťovať životné prostredie. Keďže na to\, že sa svet topí v plastoch\, doplácame všetci\, film kladie otázku: Kto na tom zbohatne?\nRÉŽIA\nTom Costello\, Benedict Wermter / Dánsko / 2021 / 52 min.\nJAZYK\nanglicky\, nemecky\, dánsky\, indonézsky\nTITULKY\nslovenské\, anglické\nTÉMA\nKlíma\n20.10. Diskusia\n20.30. Odvaha\nVo víre masových protestov po bieloruských prezidentských voľbách\, ktoré sa uskutočnili v lete roku 2020\, zadržia v Minsku trojicu hercov nekomerčného divadla. Tí chceli\, aby v rozľahlých uliciach Minska zaznel aj ich hlas\, ktorým volali po slobode prejavu a dlho očakávanej zmene na čele štátu. Štátny bezpečnostný aparát však hlas ľudu brutálnym spôsobom umlčí. Uväznení sú nielen divadelníci\, ale aj mnohí ďalší ľudia. Krajina sa ocitá na pokraji občianskej vojny. Film Odvaha dokumentuje statočný a nenásilný odpor\, ktorý nielen pred protestmi\, ale aj po nich stelesňujú Maryna\, Pavel a Denis. Ponúka autentický pohľad na udalosti\, dokonale a pútavo sa ponára do osudov ľudí\, ktorí v dnešnom Bielorusku zvádzajú boj za slobodu a právo na demokraciu.\nRÉŽIA\nAliaksej Palujan / Nemecko\, Bielorusko / 2021 / 90 min.\nJAZYK\nrusky\, bielorusky\, nemecky\nTITULKY\nčeské\, anglické\nTÉMA\nPolitické režimy
URL:https://kulturne.sk/event/filmovy-festival-jeden-svet/
LOCATION:Bar Museum\, Malá hora 2\, Martin\, 03601\, Slovenská republika
CATEGORIES:Festival,Film
ATTACH;FMTTYPE=image/jpeg:https://kulturne.sk/wp-content/uploads/2022/02/JEDENSVET21-baneri_JEDENSVET21-dfilms_600x200.jpg
END:VEVENT
END:VCALENDAR