BEGIN:VCALENDAR
VERSION:2.0
PRODID:-//www.kulturne.sk - ECPv5.14.0.4//NONSGML v1.0//EN
CALSCALE:GREGORIAN
METHOD:PUBLISH
X-WR-CALNAME:www.kulturne.sk
X-ORIGINAL-URL:https://kulturne.sk
X-WR-CALDESC:Events for www.kulturne.sk
REFRESH-INTERVAL;VALUE=DURATION:PT1H
X-Robots-Tag:noindex
X-PUBLISHED-TTL:PT1H
BEGIN:VTIMEZONE
TZID:Europe/Bratislava
BEGIN:DAYLIGHT
TZOFFSETFROM:+0100
TZOFFSETTO:+0200
TZNAME:CEST
DTSTART:20220327T010000
END:DAYLIGHT
BEGIN:STANDARD
TZOFFSETFROM:+0200
TZOFFSETTO:+0100
TZNAME:CET
DTSTART:20221030T010000
END:STANDARD
END:VTIMEZONE
BEGIN:VEVENT
DTSTART;TZID=Europe/Bratislava:20220212T190000
DTEND;TZID=Europe/Bratislava:20220212T200000
DTSTAMP:20260420T014212
CREATED:20220207T212445Z
LAST-MODIFIED:20220207T212445Z
UID:6944-1644692400-1644696000@kulturne.sk
SUMMARY:TURIEC FILM: CELULÓZKA + HISTÓRIA LYŽOVANIA V TURCI
DESCRIPTION:PREMIETANIE DOKUMENTU CELULÓZKA A HISTÓRIA LYŽOVANIA V TURCI \nJedinečný dokument o dnes už neexistujúcej továrne na výrobu celulózky.\nVrátime sa na začiatok 19. storočia kedy továreň začala s výrobou.\nDozviete sa kto ju založil\, aké mala strojové vybavenie\, čo produkovala a za akých podmienok v nej pracovali ľudia. Zaspomínajú si bývalí riaditelia.\ndĺžka 25 min. \nHistória lyžovania v Turci\nDokument vás oboznámi so začiatkami lyžovania vo svete a jeho prvými propagátormi na Slovensku a v Turci. Dozviete sa ako sa vyvíjala výstroj a ako sa rozvíjali lyžiarske strediská v Turci. Zaujímavý je aj osud turistických chát v Turčianskej kotline.\ndĺžka 30 min. \nRežim OP\nBez vstupného
URL:https://kulturne.sk/event/turiec-film-celulozka-historia-lyzovania-v-turci/
LOCATION:Bar Museum\, Malá hora 2\, Martin\, 03601\, Slovenská republika
CATEGORIES:Film
ATTACH;FMTTYPE=image/jpeg:https://kulturne.sk/wp-content/uploads/2022/02/turiecfilm_Kreslici-platno-1-scaled-1.jpg
END:VEVENT
BEGIN:VEVENT
DTSTART;TZID=Europe/Bratislava:20220212T180000
DTEND;TZID=Europe/Bratislava:20220213T200000
DTSTAMP:20260420T014212
CREATED:20220209T211928Z
LAST-MODIFIED:20220209T211928Z
UID:7009-1644688800-1644782400@kulturne.sk
SUMMARY:Kino Moskva: Vezmi si ma
DESCRIPTION:Nepravdepodobná romanca dvoch rôznych ľuďoch\, ktorí hľadajú niečo skutočné vo svete\, kde sú hodnoty založené na lajkoch a sledovateľoch. Vezmi si ma je moderný\, milostný príbeh o celebritách\, manželstve a sociálnych sieťach. V hlavných úlohách zažiatia Jennifer Lopez\, latinsko americká spevácka Maluma a charizmatický Owen Wilson.
URL:https://kulturne.sk/event/kino-moskva-vezmi-si-ma/
LOCATION:Kino Moskva\, Moskovská 1\, Martin\, 03601\, Slovenská republika
CATEGORIES:Film
ATTACH;FMTTYPE=image/jpeg:https://kulturne.sk/wp-content/uploads/2022/02/b1557f54-7d34-11ec-b67c-9e966f951e90.jpg
END:VEVENT
BEGIN:VEVENT
DTSTART;TZID=Europe/Bratislava:20220211T200000
DTEND;TZID=Europe/Bratislava:20220211T220000
DTSTAMP:20260420T014212
CREATED:20220209T212059Z
LAST-MODIFIED:20220209T212059Z
UID:7012-1644609600-1644616800@kulturne.sk
SUMMARY:Scandi 2022: Divoch
DESCRIPTION:Martin v zúfalej snahe prekonať krízu stredného veku uteká od spoločnosti\, aby mohol žiť v lese. Zaobstará si luk a jaskynný outfit\, ale pravda je taká\, že v prežití nestojí za nič. Jedného dňa stretne Musu\, drogového dílera\, ktorý je zranený a na úteku. V nádeji\, že uniknú mnohým problémom\, sa toto excentrické duo vydáva na hektickú jazdu cez fjordy. Prenasleduje ich miestna polícia\, rozzúrený Viking\, násilníci a v neposlednom rade Martinova rodina.
URL:https://kulturne.sk/event/scandi-2022-divoch/
LOCATION:Kino Moskva\, Moskovská 1\, Martin\, 03601\, Slovenská republika
CATEGORIES:Festival,Film
ATTACH;FMTTYPE=image/jpeg:https://kulturne.sk/wp-content/uploads/2022/02/661e8117-7d35-11ec-b67c-9e966f951e90.jpg
END:VEVENT
BEGIN:VEVENT
DTSTART;TZID=Europe/Bratislava:20220211T175000
DTEND;TZID=Europe/Bratislava:20220212T200000
DTSTAMP:20260420T014212
CREATED:20220209T205503Z
LAST-MODIFIED:20220211T124401Z
UID:6976-1644601800-1644696000@kulturne.sk
SUMMARY:Kino Moskva: The King's Man: Prvá misia
DESCRIPTION:Prequel k prvému filmu Kingsman: Tajná služba zasadený do prostredia prvej svetovej vojny. Spoznajte začiatky tejto štýlovej\, britskej tajnej služby. \nKeď sa dá dohromady banda najhorších tyranov a zločincov histórie\, aby rozpútali zničujúcu vojnu\, potom jeden muž musí súperiť s časom\, aby ich spiknutie prekazil.
URL:https://kulturne.sk/event/the-kings-man-prva-misia/
LOCATION:Kino Moskva\, Moskovská 1\, Martin\, 03601\, Slovenská republika
CATEGORIES:Film
ATTACH;FMTTYPE=image/jpeg:https://kulturne.sk/wp-content/uploads/2022/02/50c1cd68-e47f-11ea-93e1-ca5226ad5601.jpg
END:VEVENT
BEGIN:VEVENT
DTSTART;TZID=Europe/Bratislava:20220211T160000
DTEND;TZID=Europe/Bratislava:20220215T180000
DTSTAMP:20260420T014212
CREATED:20220209T204808Z
LAST-MODIFIED:20220211T124354Z
UID:6972-1644595200-1644948000@kulturne.sk
SUMMARY:Kino Moskva: Tajomstvo starej bambitky 2
DESCRIPTION:Z Jakuba je kráľ\, z Aničky kráľovná a rodina sa rozrástla o zvedavú princeznú Johanku. Tá najradšej trávi čas s milujúcim deduškom Karabom\, spravodlivým to lúpežníkom\, ktorý sa teraz venuje len hrnčiarskemu remeslu. Chamtiví radcovia Lorenc a Ferenc boli vyhostení z kráľovstva\, potulujú sa po svete a hľadajú miesto\, kde by mohli opäť začať kuť pikle. Zdá sa\, že mladá\, neskúsená kráľovná Júlia zo susedného kráľovstva sa stane vhodným nástrojom ich pomsty. Že by nastal čas oprášiť tajomnú bambitku\, ktorá doteraz ležala dobre ukrytá a zavolať na pomoc lúpežníka Karabu a spojiť všetky sily\, aby spravodlivosť a láska konečne zvíťazili? \n \n 
URL:https://kulturne.sk/event/tajomstvo-starej-bambitky-2/
LOCATION:Kino Moskva\, Moskovská 1\, Martin\, 03601\, Slovenská republika
CATEGORIES:Film
ATTACH;FMTTYPE=image/jpeg:https://kulturne.sk/wp-content/uploads/2022/02/b300cf39-7d33-11ec-b67c-9e966f951e90.jpg
END:VEVENT
BEGIN:VEVENT
DTSTART;TZID=Europe/Bratislava:20220210T200000
DTEND;TZID=Europe/Bratislava:20220210T220000
DTSTAMP:20260420T014212
CREATED:20220209T205832Z
LAST-MODIFIED:20220209T212504Z
UID:6981-1644523200-1644530400@kulturne.sk
SUMMARY:Scandi 2022: Margrete - kráľovná severu
DESCRIPTION:Píše sa rok 1402. Margrete sa podarilo to\, čo žiadnemu mužovi pred ňou. Spojila Dánsko\, Nórsko a Švédsko \ndo mierovo orientovanej únie\, ktorej sama vládne prostredníctvom svojho mladého adoptívneho syna Erika. Únia je \nvšak obkľúčená nepriateľmi\, a tak Margrete plánuje manželstvo medzi Erikom a anglickou princeznou. Spojenectvo \ns Anglickom by únii zaručilo status vznikajúcej európskej veľmoci\, ale hroziace sprisahanie môže zničiť Margrete \na všetko\, čomu verila. Režisérka Charlotte Sieling má za sebou dlhú kariéru ako jedna z najznámejších dánskych \nrežisérok TV sérií\, ako Borgiovci (2013)\, The Killing\, Most (2011)\, Those Who Kill (2014) a americký seriál Homeland \n(V mene vlasti) (2018). Charlotte Sieling prináša v snímke MARGRETE – KRÁĽOVNÁ SEVERU jeden z najväčších \npríbehov severských krajín\, príbeh o jednej z najmocnejších žien v európskych dejinách.
URL:https://kulturne.sk/event/kino-moskva-margrete-kralovna-severu/
LOCATION:Kino Moskva\, Moskovská 1\, Martin\, 03601\, Slovenská republika
CATEGORIES:Festival,Film
ATTACH;FMTTYPE=image/jpeg:https://kulturne.sk/wp-content/uploads/2022/02/164a4e5c-7d35-11ec-b67c-9e966f951e90.jpg
END:VEVENT
END:VCALENDAR